BEGIN:VCALENDAR
VERSION:2.0
PRODID:-//Swiss Chamber Concerts
CALSCALE:GREGORIAN
METHOD:PUBLISH
X-WR-CALNAME:Swiss Chamber Concerts
X-ORIGINAL-URL:https://swisschamberconcerts.ch/concert/echosaariaho/
X-WR-CALDESC:ECHO<span style="color: #ee0d27;">SAARIAHO</span>
BEGIN:VEVENT
DTSTART:20241021T193000
DTEND:
SUMMARY:ECHO<span style="color: #ee0d27;">SAARIAHO</span>
DESCRIPTION:<b>FRANZ SCHUBERT</b> <sup>1797-1828</sup><br>
<b>KAIJA SAARIAHO</b> <sup>1952-2023</sup><br>
<b>GABRIEL FAURÉ</b> <sup>1845-1924</sup><br>
<b>ARVO PÄRT</b> <sup>*1935</sup><br>
<b>LOUIS ANDRIESSEN</b> <sup>1939-2021</sup><br>
<b>FRANZ SCHUBERT</b> <sup>1797-1828</sup><br>
LOCATION:Kulturhaus Helferei Grossmünster
END:VEVENT
END:VCALENDAR
