BEGIN:VCALENDAR
VERSION:2.0
PRODID:-//Swiss Chamber Concerts
CALSCALE:GREGORIAN
METHOD:PUBLISH
X-WR-CALNAME:Swiss Chamber Concerts
X-ORIGINAL-URL:https://swisschamberconcerts.ch/de/concert/echoschubert-2/
X-WR-CALDESC:ECHO<span style="color: #ee0d27;">SCHUBERT</span>
BEGIN:VEVENT
DTSTART:20241211T200000
DTEND:
SUMMARY:ECHO<span style="color: #ee0d27;">SCHUBERT</span>
DESCRIPTION:FRANK MARTIN <sup>1890-1974</sup><br>
THÜRING BRÄM <sup>*1944</sup><br>
FRANZ SCHUBERT <sup>1797-1828</sup><br>
LUDWIG VAN BEETHOVEN <sup>1770-1827</sup>
LOCATION:Gare du Nord ⬥ Basel
END:VEVENT
END:VCALENDAR
