BEGIN:VCALENDAR
VERSION:2.0
PRODID:-//Swiss Chamber Concerts
CALSCALE:GREGORIAN
METHOD:PUBLISH
X-WR-CALNAME:Swiss Chamber Concerts
X-ORIGINAL-URL:https://swisschamberconcerts.ch/it/concert/echolangbein/
X-WR-CALDESC:ECHO<span style="color: #ee0d27;">LANGBEIN</span>
BEGIN:VEVENT
DTSTART:20241201T170000
DTEND:
SUMMARY:ECHO<span style="color: #ee0d27;">LANGBEIN</span>
DESCRIPTION:JOHANN SEBASTIAN BACH</b> <sup>1685-1750</sup><br>
BRENTON LANGBEIN</b> <sup>1928-1993</sup><br>
HANS WERNER HENZE</b> <sup>1926-2012</sup><br>
ALFRED FELDER</b> <sup>*1950</sup><br>

LOCATION:Predigerkirche
END:VEVENT
END:VCALENDAR
